BEGIN:VCALENDAR
VERSION:2.0
PRODID:-//hacksw/handcal//NONSGML v1.0//EN
BEGIN:VEVENT
SUMMARY:RALLYE DES CLOCHETTES
UID:2ace62c1-797e-4f69-9323-f77907d3a086
DTSTART:20260501T050000Z
DTEND:20260501T113000Z
LOCATION:Localisation   
CATEGORIES:Sportif
STATUS:
DESCRIPTION:<p>Chers amies et amis cyclotouristes, Nous avons le
 plaisir de vous inviter a participer au <strong>Rallye des
 Clochettes</strong>, qui se deroulera le <strong>1er
 mai, </strong>une randonnee conviviale ouverte a tous les amateurs
 de velo, quel que soit leur niveau.</p>
 
 <p>Au programme
 :</p>
 
 <ul>
 	<li>
 	<p>Des parcours adaptes a
 chacun</p>
 	</li>
 	<li>
 	<p>Une bonne ambiance, un moment sportif a
 partager en famille ou entre amis</p>
 	</li>
 	<li>
 	<p>Vous trouverez
 tous les renseignements dans les docments
 ci-dessous</p>
 	</li>
 </ul>
 
 <p>Nous serions ravis de vous compter
 parmi nous pour cette nouvelle edition. Au plaisir de vous accueillir
 nombreux !</p>
URL;VALUE=URI:https://cyclomagnanville.sportsregions.fr/evenements/2026/05/01/rallye-des-clochettes-2439284
END:VEVENT
END:VCALENDAR
